BEGIN:VCALENDAR
VERSION:2.0
PRODID:spatie/icalendar-generator
DESCRIPTION:Events from La Petite Ecole
X-WR-CALDESC:Events from La Petite Ecole
REFRESH-INTERVAL;VALUE=DURATION:PT1440M
X-PUBLISHED-TTL:PT1440M
BEGIN:VTIMEZONE
TZID:Etc/GMT-3
BEGIN:STANDARD
DTSTART:20221029T100000Z
TZOFFSETFROM:+0300
TZOFFSETTO:+0300
END:STANDARD
END:VTIMEZONE
BEGIN:VTIMEZONE
TZID:UTC
BEGIN:STANDARD
DTSTART:20250726T083842Z
TZOFFSETFROM:+0000
TZOFFSETTO:+0000
END:STANDARD
END:VTIMEZONE
BEGIN:VEVENT
UID:4-2
DTSTAMP:20260422T083842Z
SUMMARY:test1
LOCATION:
ORGANIZER;CN=admin:MAILTO:sspyrakis@gmail.com
DTSTART;TZID=Etc/GMT-3:20230726T100000
DTEND;TZID=Etc/GMT-3:20230726T140000
X-ALT-DESC;FMTTYPE=TEXT/HTML:test test test test test test test test test t
 est test test test test test test test test test test test
CATEGORIES:ΕΝΗΜΕΡΩΣΕΙΣ- ΣΥΝΑΝΤΗΣΕΙΣ ΓΟΝΕΩΝ
URL;VALUE=URI:https://la-petite-ecole.gr/mc-events/test1/?mc_id=4
END:VEVENT
END:VCALENDAR